BEGIN:VCALENDAR
VERSION:2.0
PRODID:-//FRLA - ECPv6.15.18//NONSGML v1.0//EN
CALSCALE:GREGORIAN
METHOD:PUBLISH
X-ORIGINAL-URL:https://frla.org
X-WR-CALDESC:Events for FRLA
REFRESH-INTERVAL;VALUE=DURATION:PT1H
X-Robots-Tag:noindex
X-PUBLISHED-TTL:PT1H
BEGIN:VTIMEZONE
TZID:America/New_York
BEGIN:DAYLIGHT
TZOFFSETFROM:-0500
TZOFFSETTO:-0400
TZNAME:EDT
DTSTART:20240310T070000
END:DAYLIGHT
BEGIN:STANDARD
TZOFFSETFROM:-0400
TZOFFSETTO:-0500
TZNAME:EST
DTSTART:20241103T060000
END:STANDARD
BEGIN:DAYLIGHT
TZOFFSETFROM:-0500
TZOFFSETTO:-0400
TZNAME:EDT
DTSTART:20250309T070000
END:DAYLIGHT
BEGIN:STANDARD
TZOFFSETFROM:-0400
TZOFFSETTO:-0500
TZNAME:EST
DTSTART:20251102T060000
END:STANDARD
BEGIN:DAYLIGHT
TZOFFSETFROM:-0500
TZOFFSETTO:-0400
TZNAME:EDT
DTSTART:20260308T070000
END:DAYLIGHT
BEGIN:STANDARD
TZOFFSETFROM:-0400
TZOFFSETTO:-0500
TZNAME:EST
DTSTART:20261101T060000
END:STANDARD
END:VTIMEZONE
BEGIN:VEVENT
DTSTART;TZID=America/New_York:20250602T084500
DTEND;TZID=America/New_York:20250602T133000
DTSTAMP:20260420T071922
CREATED:20250317T211116Z
LAST-MODIFIED:20250416T155618Z
UID:10004515-1748853900-1748871000@frla.org
SUMMARY:Hillsborough - 8th Annual Sporting Clay Event
DESCRIPTION:8th Annual Sporting Clay Tournament \nJune 2\, 2025\nTampa Bay Sporting Clays\n  \nGet ready to lock and load for an unforgettable day of fun and networking at the FRLA Hillsborough 8th Annual Sporting Clay Event. Whether you’re a rookie or a sharpshooter\, this is your chance to hit the bullseye on building connections and teamwork. This year’s event takes place during National Tourism Week\, so let’s celebrate the industry and shoot for success. Gather your team and get ready – because at this event\, we’re not just aiming for targets\, we’re aiming for new friendships and opportunities! Ready\, Aim\, Network! \nEvent Details:\nMonday\, June 2\, 2025\n8:45 AM – 1:30 PM\nTampa Bay Sporting Clays\n10514 Ehren Cutoff Land O’ Lakes \nSchedule of Events:\n8:45 – 9:30 AM Breakfast\n9:00 AM Registration\n9:15 AM Range Safety Briefing\n9:45 AM Clay Shoot Begins\n12:00 – 1:30 PM – Lunch\, Awards\, Raffles\, & Beverages \n  \nEvent Pricing:\nRegistration includes breakfast and awards luncheon provided by the Renaissance International Plaza Hotel \nTeam of Four $500 – (4) shooters\, ammo\, golf cart\, and (1) gun per team \nIndividual Shooter $125 – (1) shooter\, ammo\, and gun (at shooting station) \nGolf Cart $60 – (For individual shooters only) Course is ¾ mile to walk \nPlayers Package $30 – (Purchase online or at check-in) Three raffle tickets and one mulligan \n  \nRegister Now!\nThe registration and payment deadline is May 26\, 2025\, or earlier if the event sells out. Cancellations after the deadline will be invoiced. \n  \nRaffle item donations needed and appreciated!\n  \nSponsorship Opportunities: \nPresenting Sponsor: $1\,500 – Company recognition on tournament signage\, introduction at opening of event and luncheon\, prominent logo placement on tournament t-shirt\, choice of station to showcase your business and network with shooters\, two teams of four and two golf carts. \nTournament T-Shirt Sponsor: $1\,000 – Top placement of logo on tournament t-shirt\, company recognition on signage display\, one team of six and one golf cart. \nBreakfast or Luncheon Sponsor: $750 – Welcome participants\, company recognition on signage\, logo on t-shirt\, table display and one team of four. \nAwards Celebration Sponsor: $500 each – Address participants\, company recognition on signage\, logo on t-shirt\, table for distribution of materials and one shooter. \nStation Sponsor: $150 – Showcase your business at a range station while networking with shooters.
URL:https://frla.org/event/hillsborough-8th-annual-sporting-clay-event/
LOCATION:Tampa Bay Sporting Clays\, 10514 Ehren Cutoff\, Land O Lakes\, FL\, 34639\, United States
CATEGORIES:Hillsborough
ATTACH;FMTTYPE=image/png:https://frla.org/wp-content/uploads/2025/03/Web-2025-Hillsborough-Clay-Shoot-1.png
ORGANIZER;CN="Dannette Lynch":MAILTO:dannette@frla.org
END:VEVENT
BEGIN:VEVENT
DTSTART;TZID=America/New_York:20250610T083000
DTEND;TZID=America/New_York:20250610T103000
DTSTAMP:20260420T071922
CREATED:20250514T142407Z
LAST-MODIFIED:20250602T134026Z
UID:10004535-1749544200-1749551400@frla.org
SUMMARY:Hillsborough/Pinellas - Hospitality Forward June Meeting
DESCRIPTION:  \nCustomer Obsessed – How to Create Unforgettable Experiences and Drive Growth\nJoin the FRLA Hillsborough and Pinellas Chapters for the SECOND Hospitality Forward meeting – an exclusive tech empowerment event designed for hospitality leaders! Hospitality Forward is brought to you in collaboration with the Florida-Israel Business Accelerator. Our second meeting will uncover strategies and technologies that transform the entire customer journey\, create loyalty\, and generate growth.  \nRegister today and join your industry colleagues on June 10th from 8:30 – 10:30 AM at the Grand Hyatt Tampa Bay for Customer Obsessed – How to Create Unforgettable Experiences and Drive Growth  \nSpeakers:\n \n  \nRegistration:\n(Breakfast Included) \n$40 \nRegister Now!\nUpcoming Meetings: \n• September 2025 – Hack-Proof Your World\n– Learn how to protect your business from online threats. \nView Event Flyer\n  \nInquire About Sponsorships Opportunities! \nContact FRLA Regional Director\, Dannette Lynch\, at dannette@frla.org or 727-642-3404. \n 
URL:https://frla.org/event/hillsborough-pinellas-hospitality-forward-june-meeting/
LOCATION:Grand Hyatt Tampa Bay\, 2900 Bayport Dr\, Tampa\, FL\, 34236\, United States
CATEGORIES:Hillsborough,Pinellas
ATTACH;FMTTYPE=image/png:https://frla.org/wp-content/uploads/2025/05/web-June25-Hospitality-Forward.png
ORGANIZER;CN="Dannette Lynch":MAILTO:dannette@frla.org
GEO:27.9622705;-82.5493437
X-APPLE-STRUCTURED-LOCATION;VALUE=URI;X-ADDRESS=Grand Hyatt Tampa Bay 2900 Bayport Dr Tampa FL 34236 United States;X-APPLE-RADIUS=500;X-TITLE=2900 Bayport Dr:geo:-82.5493437,27.9622705
END:VEVENT
END:VCALENDAR