BEGIN:VCALENDAR
VERSION:2.0
PRODID:-//FRLA - ECPv6.15.18//NONSGML v1.0//EN
CALSCALE:GREGORIAN
METHOD:PUBLISH
X-WR-CALNAME:FRLA
X-ORIGINAL-URL:https://frla.org
X-WR-CALDESC:Events for FRLA
REFRESH-INTERVAL;VALUE=DURATION:PT1H
X-Robots-Tag:noindex
X-PUBLISHED-TTL:PT1H
BEGIN:VTIMEZONE
TZID:America/New_York
BEGIN:DAYLIGHT
TZOFFSETFROM:-0500
TZOFFSETTO:-0400
TZNAME:EDT
DTSTART:20250309T070000
END:DAYLIGHT
BEGIN:STANDARD
TZOFFSETFROM:-0400
TZOFFSETTO:-0500
TZNAME:EST
DTSTART:20251102T060000
END:STANDARD
BEGIN:DAYLIGHT
TZOFFSETFROM:-0500
TZOFFSETTO:-0400
TZNAME:EDT
DTSTART:20260308T070000
END:DAYLIGHT
BEGIN:STANDARD
TZOFFSETFROM:-0400
TZOFFSETTO:-0500
TZNAME:EST
DTSTART:20261101T060000
END:STANDARD
BEGIN:DAYLIGHT
TZOFFSETFROM:-0500
TZOFFSETTO:-0400
TZNAME:EDT
DTSTART:20270314T070000
END:DAYLIGHT
BEGIN:STANDARD
TZOFFSETFROM:-0400
TZOFFSETTO:-0500
TZNAME:EST
DTSTART:20271107T060000
END:STANDARD
END:VTIMEZONE
BEGIN:VEVENT
DTSTART;VALUE=DATE:20261008
DTEND;VALUE=DATE:20261009
DTSTAMP:20260419T191228
CREATED:20260209T185833Z
LAST-MODIFIED:20260209T190643Z
UID:10004603-1791417600-1791503999@frla.org
SUMMARY:Hillsborough 3rd Annual ROSE Awards
DESCRIPTION:SAVE THE DATE\nThe 3rd Annual Hillsborough ROSE Awards\nOctober 8\, 2026\nJW Marriott Tampa Water Street\n  \n  \nThe 3rd Annual Hillsborough ROSE (Recognition of Service Excellence) Awards will celebrate the remarkable efforts of frontline hospitality professionals who consistently exceed expectations in delivering exceptional service. These individuals truly epitomize the unwavering commitment of the county to curate unforgettable experiences for each and every visitor. We cordially invite you to be a part of this prestigious event as we pay tribute to these outstanding champions who are shaping the landscape of hospitality with their dedication and passion.  \nFor sponsorship or additional information\, please contact FRLA Regional Director Dannette Lynch \n727-642-3404 or dannette@frla.org
URL:https://frla.org/event/hillsborough-3rd-annual-rose-awards/
LOCATION:JW Marriott Tampa Water Street\, 510 Water St\, Tampa\, 33602\, United States
CATEGORIES:Hillsborough
ATTACH;FMTTYPE=image/png:https://frla.org/wp-content/uploads/2026/02/Web-Hillsborough-ROSE-Awards-2026-1.png
ORGANIZER;CN="Dannette Lynch":MAILTO:dannette@frla.org
END:VEVENT
BEGIN:VEVENT
DTSTART;VALUE=DATE:20261025
DTEND;VALUE=DATE:20261028
DTSTAMP:20260419T191228
CREATED:20220120T230405Z
LAST-MODIFIED:20260123T183243Z
UID:10004172-1792886400-1793145599@frla.org
SUMMARY:The Florida Restaurant Show
DESCRIPTION: \n\nINTRODUCING…THE FLORIDA RESTAURANT SHOW!\n\n\n\n\n\n\nWhether you’re an independent owner\, quick-serve restaurant operator\, chef\, caterer\, baker\, bar or nightclub operator\, hospital\, hotel\, or commercial foodservice personnel — join us for 3 days October 25-27\, 2026\, at the Florida Restaurant Show at the Orange County Convention Center. \nLearn about the hottest menu trends\, state-of-the-art design and decor\, the best in business education within our education programming\, and hundreds of the leading vendors and purveyors dedicated to serving the restaurant & foodservice community — all under one roof. \nWatch live culinary performances and listen in on discussions about how our chefs came to be. Emerging trends abound on the show floor with hundreds of exhibitors and in our exciting special events. Spark your creative appetite and celebrate your passion for the profession. \nThank you so much to all our partners and supporters! \n\n\n\n\n\nLEARN MORE HERE\n  \nQuestions? Contact: \n\nRegistration: FRLA restaurant and hotel members receive unlimited free badges\, and will need to select the “FRLA Member” option and include their member ID . If you need assistance with registration please contact customer service at  PizzaSummitFloridaRestaurant@maritz.com. \nExhibits & Sponsorships: Paul Pedrow at (484) 823-9608\, paul@therestaurantevents.com or Joe Carlino joe@therestaurantevents.com \nEducational Breakout Sessions: Amy Riemer at 978-502-4895 or amy@riemercommunications.com
URL:https://frla.org/event/florida-restaurant-lodging-show/
LOCATION:Orange County Convention Center\, Orlando\, FL
CATEGORIES:Bay,Broward,Central FL,Charlotte,Citrus,Collier,EscaRosa,Florida Inns,Forgotten Coast,Greater Ocala,Gulf Island Coast,Hillsborough,Lake,Lee,Lee Chapter,Marion,Miami Dade,Monroe,North Central FL,Northeast,Northwest FL,Palm Beach,Pasco/Hernando,Pinellas,Polk,Space Coast,Suncoast,Tallahassee,Treasure Coast,Volusia
ATTACH;FMTTYPE=image/png:https://frla.org/wp-content/uploads/2022/01/Untitled-design-2.png
GEO:28.5383355;-81.3792365
END:VEVENT
END:VCALENDAR