BEGIN:VCALENDAR
VERSION:2.0
PRODID:-//FRLA - ECPv6.15.18//NONSGML v1.0//EN
CALSCALE:GREGORIAN
METHOD:PUBLISH
X-WR-CALNAME:FRLA
X-ORIGINAL-URL:https://frla.org
X-WR-CALDESC:Events for FRLA
REFRESH-INTERVAL;VALUE=DURATION:PT1H
X-Robots-Tag:noindex
X-PUBLISHED-TTL:PT1H
BEGIN:VTIMEZONE
TZID:America/New_York
BEGIN:DAYLIGHT
TZOFFSETFROM:-0500
TZOFFSETTO:-0400
TZNAME:EDT
DTSTART:20240310T070000
END:DAYLIGHT
BEGIN:STANDARD
TZOFFSETFROM:-0400
TZOFFSETTO:-0500
TZNAME:EST
DTSTART:20241103T060000
END:STANDARD
BEGIN:DAYLIGHT
TZOFFSETFROM:-0500
TZOFFSETTO:-0400
TZNAME:EDT
DTSTART:20250309T070000
END:DAYLIGHT
BEGIN:STANDARD
TZOFFSETFROM:-0400
TZOFFSETTO:-0500
TZNAME:EST
DTSTART:20251102T060000
END:STANDARD
BEGIN:DAYLIGHT
TZOFFSETFROM:-0500
TZOFFSETTO:-0400
TZNAME:EDT
DTSTART:20260308T070000
END:DAYLIGHT
BEGIN:STANDARD
TZOFFSETFROM:-0400
TZOFFSETTO:-0500
TZNAME:EST
DTSTART:20261101T060000
END:STANDARD
END:VTIMEZONE
BEGIN:VEVENT
DTSTART;TZID=America/New_York:20251113T140000
DTEND;TZID=America/New_York:20251113T163000
DTSTAMP:20260419T203823
CREATED:20250924T142934Z
LAST-MODIFIED:20250924T202155Z
UID:10004567-1763042400-1763051400@frla.org
SUMMARY:Hillsborough - Pizza Palooza
DESCRIPTION:In “knead” of a little team bonding?\nHead to the Hillsborough Chapter’s Pizza Palooza for a deliciously fun and friendly pizza-making competition! Everyone on your team will work together to make pizza dough from scratch\, and then creative energy will flow while you choose flavor combinations and ingredients to craft the best pizza pie. The event culminates a friendly competition that calls on each team to hone time management\, collaboration\, communication\, and presentation skills with delicious results.  \nGiving Back for the Holidays! \nThe Hillsborough Chapter is thrilled to spread joy and make a difference in the lives of teenagers in our community! We invite all attendees to join us in this heartwarming initiative by bringing a minimum $15.00 gift card from Amazon\, Target\, Walmart\, or others. These thoughtful gifts will be given to teenagers who often go unsupported during the holidays. \n  \nEvent Details:\nThursday\, November 13\, 2025\n2:00 – 4:30 PM\nRenaissance Tampa International Plaza Hotel \n(Pelagia Trattoria)\n4200 Jim Walter Blvd. Tampa\, FL 33607 \nEvent Cost:\nTeam of Four – $150\nMember – $45 per person\nFuture Member – $50 per person \nOne drink ticket for wine\, beer\, or soda and pizza tasting \nSponsorship Opportunities:\nPalooza Sponsor: $500\n2 event tickets\, welcoming at event and corporate signage at an event \nPizza Station Sponsor: $175\n2 event tickets\, corporate signage at event \n  \nRegister Now! \nRegistration Deadline: November 7\, 2025 \n  \n  \n 
URL:https://frla.org/event/hillsborough-pizza-palooza-2/
LOCATION:Renaissance Tampa International Plaza\, 4200 Jim Walter Boulevard\, Tampa\, FL\, 33607\, United States
CATEGORIES:Hillsborough
ATTACH;FMTTYPE=image/png:https://frla.org/wp-content/uploads/2025/09/Web-Hillsborough-2025-Pizza-Palooza-1100-x-340-px-1.png
ORGANIZER;CN="Dannette Lynch":MAILTO:dannette@frla.org
END:VEVENT
END:VCALENDAR